{ "currentVersion": 10.91, "serviceDescription": "
This service provides access to a cloud-optimized lossless reformatting of WorldPop's 1-km annual estimates of population density from the year 2000 to 2020. Calculated from the WorldPop 1km Total Population 2000-2020. The DOI for the original datasets is 10.5258/SOTON/WP00674.<\/p>
Recommended Citation:<\/b> WorldPop (www.worldpop.org - School of Geography and Environmental Science, University of Southampton; Department of Geography and Geosciences, University of Louisville; Departement de Geographie, Universite de Namur) and Center for International Earth Science Information Network (CIESIN), Columbia University (2018). Global High Resolution Population Denominators Project - Funded by The Bill and Melinda Gates Foundation. Accessed from https://worldpop.arcgis.com/arcgis/rest/services/WorldPop_Population_Density_1km/ImageServer, which was acquired from https://www.worldpop.org/doi/10.5258/SOTON/WP00674 on 15 Sep, 2021.<\/p>", "name": "WorldPop_Population_Density_1km", "description": "
This service provides access to a cloud-optimized lossless reformatting of WorldPop's 1-km annual estimates of population density from the year 2000 to 2020. Calculated from the WorldPop 1km Total Population 2000-2020. The DOI for the original datasets is 10.5258/SOTON/WP00674.<\/p>
Recommended Citation:<\/b> WorldPop (www.worldpop.org - School of Geography and Environmental Science, University of Southampton; Department of Geography and Geosciences, University of Louisville; Departement de Geographie, Universite de Namur) and Center for International Earth Science Information Network (CIESIN), Columbia University (2018). Global High Resolution Population Denominators Project - Funded by The Bill and Melinda Gates Foundation. Accessed from https://worldpop.arcgis.com/arcgis/rest/services/WorldPop_Total_Population_1km/ImageServer, which was acquired from https://www.worldpop.org/doi/10.5258/SOTON/WP00674 on 15 Sep, 2021.<\/p>", "extent": { "xmin": -180, "ymin": -59.49208289121721, "xmax": 179.9916652266685, "ymax": 83.63291653627026, "spatialReference": { "wkid": 4326, "latestWkid": 4326 } }, "initialExtent": { "xmin": -180, "ymin": -59.49208289121721, "xmax": 179.9916652266685, "ymax": 83.63291653627026, "spatialReference": { "wkid": 4326, "latestWkid": 4326 } }, "fullExtent": { "xmin": -180, "ymin": -59.49208289121721, "xmax": 179.9916652266685, "ymax": 83.63291653627026, "spatialReference": { "wkid": 4326, "latestWkid": 4326 } }, "hasMultidimensions": true, "timeInfo": { "startTimeField": "StdTime", "endTimeField": "StdTime", "timeExtent": [ 946684800000, 1577836800000 ], "timeReference": null, "defaultTimeInterval": 1, "defaultTimeIntervalUnits": "esriTimeUnitsYears" }, "pixelSizeX": 0.00833333329999927, "pixelSizeY": 0.00833333329999927, "datasetFormat": "Cache/LERC2D", "uncompressedSize": 2967771300, "blockWidth": 256, "blockHeight": 256, "compressionType": "LERC2D", "bandNames": [ "Band_1" ], "allowCopy": true, "allowAnalysis": true, "defaultVariable": "", "bandCount": 1, "noDataValue": 3.4E38, "noDataValues": [ 3.4E38 ], "pixelType": "F32", "minPixelSize": 0, "maxPixelSize": 0, "copyrightText": "WorldPop.org, Esri", "serviceDataType": "esriImageServiceDataTypeScientific", "serviceSourceType": "esriImageServiceSourceTypeDataset", "minValues": [ 0 ], "maxValues": [ 870423.25 ], "meanValues": [ 43.01015951470002 ], "stdvValues": [ 423.2432604675627 ], "objectIdField": "", "fields": [], "capabilities": "Mensuration,Image,Metadata", "defaultMosaicMethod": "Center", "allowedMosaicMethods": "", "sortField": "", "sortValue": null, "sortAscending": true, "mosaicOperator": "First", "defaultCompressionQuality": 0, "defaultResamplingMethod": "Nearest", "maxImageHeight": 4100, "maxImageWidth": 4100, "singleFusedMapCache": true, "tileInfo": { "rows": 256, "cols": 256, "dpi": 96, "format": "LERC2D", "compressionQuality": 0, "lercError": 0, "origin": { "x": -180, "y": 83.63291653627026 }, "spatialReference": { "wkid": 4326, "latestWkid": 4326 }, "lods": [ { "level": 0, "resolution": 0.00833333329999927, "scale": 3502193.681502029 } ] }, "storageInfo": { "storageFormat": "esriMapCacheStorageModeCompactV2", "packetSize": 16 }, "cacheType": "Raster", "allowRasterFunction": true, "rasterFunctionInfos": [ { "name": "None", "description": "", "help": "" } ], "rasterTypeInfos": [ { "name": "Raster Dataset", "description": "Supports all ArcGIS Raster Datasets", "help": "" } ], "mensurationCapabilities": "Basic", "hasHistograms": true, "hasColormap": false, "hasRasterAttributeTable": false, "minScale": 0, "maxScale": 0, "exportTilesAllowed": false, "supportsStatistics": false, "supportsAdvancedQueries": false, "editFieldsInfo": null, "ownershipBasedAccessControlForRasters": null, "allowComputeTiePoints": false, "useStandardizedQueries": true, "advancedQueryCapabilities": { "useStandardizedQueries": true, "supportsStatistics": false, "supportsOrderBy": false, "supportsDistinct": false, "supportsPagination": false }, "spatialReference": { "wkid": 4326, "latestWkid": 4326 } }