<?xml version="1.0" encoding="UTF-8" standalone="no"?>
<metadata xml:lang="en">
<Esri>
<CreaDate>20211027</CreaDate>
<CreaTime>21561400</CreaTime>
<ArcGISFormat>1.0</ArcGISFormat>
<SyncOnce>FALSE</SyncOnce>
<DataProperties>
<itemProps>
<itemName Sync="TRUE">WorldPop_TotalPopulation_1km.CRF</itemName>
<itemLocation>
<linkage Sync="TRUE">file://D:\WorldPop1km\1km\CRFs\WorldPop_TotalPopulation_1km.CRF</linkage>
<protocol Sync="TRUE">Local Area Network</protocol>
</itemLocation>
<imsContentType Sync="TRUE">002</imsContentType>
<nativeExtBox>
<westBL Sync="TRUE">-180.000000</westBL>
<eastBL Sync="TRUE">179.999999</eastBL>
<southBL Sync="TRUE">-72.000416</southBL>
<northBL Sync="TRUE">84.007917</northBL>
<exTypeCode Sync="TRUE">1</exTypeCode>
</nativeExtBox>
</itemProps>
<coordRef>
<type Sync="TRUE">Geographic</type>
<geogcsn Sync="TRUE">GCS_WGS_1984</geogcsn>
<csUnits Sync="TRUE">Angular Unit: Degree (0.017453)</csUnits>
<peXml Sync="TRUE">&lt;GeographicCoordinateSystem xsi:type='typens:GeographicCoordinateSystem' xmlns:xsi='http://www.w3.org/2001/XMLSchema-instance' xmlns:xs='http://www.w3.org/2001/XMLSchema' xmlns:typens='http://www.esri.com/schemas/ArcGIS/2.8.0'&gt;&lt;WKT&gt;GEOGCS[&amp;quot;GCS_WGS_1984&amp;quot;,DATUM[&amp;quot;D_WGS_1984&amp;quot;,SPHEROID[&amp;quot;WGS_1984&amp;quot;,6378137.0,298.257223563]],PRIMEM[&amp;quot;Greenwich&amp;quot;,0.0],UNIT[&amp;quot;Degree&amp;quot;,0.0174532925199433],AUTHORITY[&amp;quot;EPSG&amp;quot;,4326]]&lt;/WKT&gt;&lt;XOrigin&gt;-400&lt;/XOrigin&gt;&lt;YOrigin&gt;-400&lt;/YOrigin&gt;&lt;XYScale&gt;11258999068426.238&lt;/XYScale&gt;&lt;ZOrigin&gt;-100000&lt;/ZOrigin&gt;&lt;ZScale&gt;10000&lt;/ZScale&gt;&lt;MOrigin&gt;-100000&lt;/MOrigin&gt;&lt;MScale&gt;10000&lt;/MScale&gt;&lt;XYTolerance&gt;8.983152841195215e-09&lt;/XYTolerance&gt;&lt;ZTolerance&gt;0.001&lt;/ZTolerance&gt;&lt;MTolerance&gt;0.001&lt;/MTolerance&gt;&lt;HighPrecision&gt;true&lt;/HighPrecision&gt;&lt;LeftLongitude&gt;-180&lt;/LeftLongitude&gt;&lt;WKID&gt;4326&lt;/WKID&gt;&lt;LatestWKID&gt;4326&lt;/LatestWKID&gt;&lt;/GeographicCoordinateSystem&gt;</peXml>
</coordRef>
<RasterProperties>
<General>
<PixelDepth Sync="TRUE">32</PixelDepth>
<HasColormap Sync="TRUE">FALSE</HasColormap>
<CompressionType Sync="TRUE">LERC2D</CompressionType>
<NumBands Sync="TRUE">1</NumBands>
<Format Sync="TRUE">Cache/LERC2D</Format>
<HasPyramids Sync="TRUE">FALSE</HasPyramids>
<SourceType Sync="TRUE">continuous</SourceType>
<PixelType Sync="TRUE">floating point</PixelType>
<NoDataValue Sync="TRUE"/>
</General>
</RasterProperties>
<lineage>
<Process Date="20211027" Time="215615" ToolSource="c:\program files\arcgis\pro\Resources\ArcToolbox\toolboxes\Multidimension Tools.tbx\SubsetMultidimensionalRaster">SubsetMultidimensionalRaster WorldPop_1km_Total_Population D:\WorldPop1km\1km\CRFs\WorldPop_TotalPopulation_1km.CRF 'Total Population' All # # # # # # #</Process>
<Process Date="20211027" Time="215922" ToolSource="c:\program files\arcgis\pro\Resources\ArcToolbox\toolboxes\Multidimension Tools.tbx\BuildMultidimensionalTranspose">BuildMultidimensionalTranspose D:\WorldPop1km\1km\CRFs\WorldPop_TotalPopulation_1km.CRF NO_DELETE_TRANSPOSE</Process>
</lineage>
</DataProperties>
<SyncDate>20211027</SyncDate>
<SyncTime>21561400</SyncTime>
<ModDate>20211027</ModDate>
<ModTime>21561400</ModTime>
</Esri>
<dataIdInfo>
<envirDesc Sync="TRUE">Microsoft Windows Server 2016 Technical Preview Version 10.0 (Build 17763) ; Esri ArcGIS 12.8.0.29751</envirDesc>
<dataLang>
<languageCode Sync="TRUE" value="eng"/>
<countryCode Sync="TRUE" value="USA"/>
</dataLang>
<idCitation>
<resTitle Sync="TRUE">WorldPop_Total_Population_1km</resTitle>
<presForm>
<PresFormCd Sync="TRUE" value="005"/>
</presForm>
</idCitation>
<spatRpType>
<SpatRepTypCd Sync="TRUE" value="002"/>
</spatRpType>
<dataExt>
<geoEle>
<GeoBndBox esriExtentType="search">
<exTypeCode Sync="TRUE">1</exTypeCode>
<westBL Sync="TRUE">-180.000000</westBL>
<eastBL Sync="TRUE">179.999999</eastBL>
<northBL Sync="TRUE">84.007917</northBL>
<southBL Sync="TRUE">-72.000416</southBL>
</GeoBndBox>
</geoEle>
</dataExt>
<idAbs>&lt;p&gt;This service provides access to a cloud-optimized lossless reformatting of WorldPop's 1-km annual estimates of total population from the year 2000 to 2020. The mapping approach is Random Forest-based dasymetric redistribution. The DOI for the original datasets is 10.5258/SOTON/WP00647.&lt;/p&gt; &lt;p&gt;&lt;b&gt;Recommended Citation:&lt;/b&gt; WorldPop (www.worldpop.org - School of Geography and Environmental Science, University of Southampton; Department of Geography and Geosciences, University of Louisville; Departement de Geographie, Universite de Namur) and Center for International Earth Science Information Network (CIESIN), Columbia University (2018). Global High Resolution Population Denominators Project - Funded by The Bill and Melinda Gates Foundation. Accessed from https://worldpop.arcgis.com/arcgis/rest/services/WorldPop_Total_Population_1km/ImageServer, which was acquired from https://www.worldpop.org/doi/10.5258/SOTON/WP00647 on 15 Sep, 2021.&lt;/p&gt;</idAbs>
<searchKeys>
<keyword>WorldPop</keyword>
<keyword>Population</keyword>
</searchKeys>
<idPurp>Annual Estimates of total population per cell.
</idPurp>
<idCredit>WorldPop.org, Esri</idCredit>
<resConst>
<Consts>
<useLimit>WorldPop datasets are available under the Creative Commons Attribution 4.0 International License. This means that you are free to share (copy and redistribute the material in any medium or format) and adapt (remix, transform, and build upon the material) for any purpose, even commercially, provided attribution is included (https://creativecommons.org/licenses/by/4.0/).</useLimit>
</Consts>
</resConst>
</dataIdInfo>
<mdLang>
<languageCode Sync="TRUE" value="eng"/>
<countryCode Sync="TRUE" value="USA"/>
</mdLang>
<mdChar>
<CharSetCd Sync="TRUE" value="004"/>
</mdChar>
<distInfo>
<distFormat>
<formatName Sync="TRUE">Raster Dataset</formatName>
</distFormat>
</distInfo>
<mdHrLv>
<ScopeCd Sync="TRUE" value="005"/>
</mdHrLv>
<mdHrLvName Sync="TRUE">dataset</mdHrLvName>
<refSysInfo>
<RefSystem>
<refSysID>
<identCode Sync="TRUE" code="4326"/>
<idCodeSpace Sync="TRUE">EPSG</idCodeSpace>
<idVersion Sync="TRUE">6.2(3.0.1)</idVersion>
</refSysID>
</RefSystem>
</refSysInfo>
<spatRepInfo>
<Georect>
<cellGeo>
<CellGeoCd Sync="TRUE" value="002"/>
</cellGeo>
<numDims Sync="TRUE">2</numDims>
<tranParaAv Sync="TRUE">1</tranParaAv>
<chkPtAv Sync="TRUE">0</chkPtAv>
<cornerPts>
<pos Sync="TRUE">-180.000000 -72.000416</pos>
</cornerPts>
<cornerPts>
<pos Sync="TRUE">-180.000000 84.007917</pos>
</cornerPts>
<cornerPts>
<pos Sync="TRUE">179.999999 84.007917</pos>
</cornerPts>
<cornerPts>
<pos Sync="TRUE">179.999999 -72.000416</pos>
</cornerPts>
<centerPt>
<pos Sync="TRUE">-0.000001 6.003750</pos>
</centerPt>
<axisDimension type="002">
<dimSize Sync="TRUE">43200</dimSize>
<dimResol>
<value Sync="TRUE" uom="deg">0.008333</value>
</dimResol>
</axisDimension>
<axisDimension type="001">
<dimSize Sync="TRUE">18721</dimSize>
<dimResol>
<value Sync="TRUE" uom="deg">0.008333</value>
</dimResol>
</axisDimension>
<ptInPixel>
<PixOrientCd Sync="TRUE" value="001"/>
</ptInPixel>
</Georect>
</spatRepInfo>
<contInfo>
<ImgDesc>
<contentTyp>
<ContentTypCd Sync="TRUE" value="001"/>
</contentTyp>
<covDim>
<Band>
<dimDescrp Sync="TRUE">Band_1</dimDescrp>
<maxVal Sync="TRUE">672314.937500</maxVal>
<minVal Sync="TRUE">0.000000</minVal>
<bitsPerVal Sync="TRUE">32</bitsPerVal>
<valUnit>
<UOM type="length"/>
</valUnit>
</Band>
</covDim>
</ImgDesc>
</contInfo>
<mdDateSt Sync="TRUE">20211027</mdDateSt>
</metadata>
