View In:
ArcGIS JavaScript
ArcGIS Online Map Viewer
ArcGIS Earth
ArcMap
View Footprint In:
ArcGIS Online Map Viewer
Service Description: This service provides access to a cloud-optimized lossless reformatting of WorldPop's 100-m annual estimates of population density from the year 2000 to 2020. Calculated from the WorldPop 100-m Total Population 2000-2020. The DOI for the original total population datasets is 10.5258/SOTON/WP00645.
Recommended Citation: WorldPop (www.worldpop.org - School of Geography and Environmental Science, University of Southampton; Department of Geography and Geosciences, University of Louisville; Departement de Geographie, Universite de Namur) and Center for International Earth Science Information Network (CIESIN), Columbia University (2018). Global High Resolution Population Denominators Project - Funded by The Bill and Melinda Gates Foundation. Accessed from https://worldpop.arcgis.com/arcgis/rest/services/WorldPop_Total_Population_100m/ImageServer, which was acquired from WorldPop in December 2021.
Name: WorldPop_Population_Density_100m
Description: This service provides access to a cloud-optimized lossless reformatting of WorldPop's 100-m annual estimates of population density from the year 2000 to 2020. Calculated from the WorldPop 100-m Total Population 2000-2020. The DOI for the original total population datasets is 10.5258/SOTON/WP00645.
Recommended Citation: WorldPop (www.worldpop.org - School of Geography and Environmental Science, University of Southampton; Department of Geography and Geosciences, University of Louisville; Departement de Geographie, Universite de Namur) and Center for International Earth Science Information Network (CIESIN), Columbia University (2018). Global High Resolution Population Denominators Project - Funded by The Bill and Melinda Gates Foundation. Accessed from https://worldpop.arcgis.com/arcgis/rest/services/WorldPop_Total_Population_100m/ImageServer, which was acquired from WorldPop in December 2021.
Single Fused Map Cache: true
Tile Info:
- Height: 256
- Width: 256
- DPI: 96
-
Levels of Detail: 1
-
Level ID: 0
[ Start Tile, End Tile ]
- Resolution: 8.333314043231382E-4
- Scale: 350218.5588590298
- Format: LERC2D
- Compression Quality: 0.0
- LERC Error: 0.0
- Origin: X: -179.999999999
Y: 83.6287490203405
- Spatial Reference: 4326
(4326)
Storage Info:
- Storage Format: esriMapCacheStorageModeCompactV2
- Packet Size: 16
Extent:
XMin: -179.999999999
YMin: -72.0008907254315
XMax: 180
YMax: 83.6287490203405
Spatial Reference: 4326
(4326)
Initial Extent:
XMin: -179.999999999
YMin: -72.0008907254315
XMax: 180
YMax: 83.6287490203405
Spatial Reference: 4326
(4326)
Full Extent:
XMin: -179.999999999
YMin: -72.0008907254315
XMax: 180
YMax: 83.6287490203405
Spatial Reference: 4326
(4326)
Time Info:
Start Time Field: StdTime
End Time Field: StdTime
Time Extent:
[2000/01/01 00:00:00 UTC, 2020/01/01 00:00:00 UTC]
Time Reference:
N/A
Pixel Size X: 8.333314043231382E-4
Pixel Size Y: 8.333314043231383E-4
Band Count: 1
Pixel Type: F32
RasterFunction Infos: {"rasterFunctionInfos": [{
"name": "None",
"description": "",
"help": ""
}]}
Mensuration Capabilities: Basic
Has Histograms: true
Has Colormap: false
Has Multi Dimensions : true
Rendering Rule:
Min Scale: 0
Max Scale: 0
Copyright Text: WorldPop.org, Esri
Service Data Type: esriImageServiceDataTypeScientific
Min Values: 0
Max Values: 4332235
Mean Values: 42.430161431636094
Standard Deviation Values: 464.14763330680375
Object ID Field:
Fields:
None
Default Mosaic Method: Center
Allowed Mosaic Methods:
SortField:
SortValue: null
Mosaic Operator: First
Default Compression Quality: 0
Default Resampling Method: Nearest
Max Record Count: null
Max Image Height: 4100
Max Image Width: 4100
Max Download Image Count: null
Max Mosaic Image Count: null
Allow Raster Function: true
Allow Copy: true
Allow Analysis: true
Allow Compute TiePoints: false
Supports Statistics: false
Supports Advanced Queries: false
Use StandardizedQueries: true
Raster Type Infos:
Name: Raster Dataset
Description: Supports all ArcGIS Raster Datasets
Help:
Has Raster Attribute Table: false
Edit Fields Info: null
Ownership Based AccessControl For Rasters: null
Child Resources:
Info
Histograms
Statistics
Key Properties
Legend
Raster Function Infos
Multidimensional Info
Slices
Supported Operations:
Export Image
Identify
Measure
Compute Histograms
Compute Statistics Histograms
Get Samples
Compute Class Statistics
Query Boundary
Compute Pixel Location
Compute Angles
Validate
Project